BEGIN:VCALENDAR
VERSION:2.0
PRODID:-//eventon.com NONSGML v1.0//EN
CALSCALE:GREGORIAN
METHOD:PUBLISH
BEGIN:VEVENT
UID:69ea8657cc4c5
DTSTAMP:20260423T205135Z
DTSTART:20210604T003000Z
DTEND:20210604T013000Z
LOCATION:
SUMMARY:Cardio
DESCRIPTION:Cardio\nhttps://lorenapaeztraining.com/events/cardio-2/var/ri-1
 5.l-L1
URL:https://lorenapaeztraining.com/events/cardio-2/var/ri-15.l-L1
END:VEVENT
END:VCALENDAR