BEGIN:VCALENDAR
VERSION:2.0
PRODID:-//eventon.com NONSGML v1.0//EN
CALSCALE:GREGORIAN
METHOD:PUBLISH
BEGIN:VEVENT
UID:69ea9bf87c66f
DTSTAMP:20260423T222352Z
DTSTART:20210611T003000Z
DTEND:20210611T013000Z
LOCATION:
SUMMARY:Cardio
DESCRIPTION:Cardio\nhttps://lorenapaeztraining.com/events/cardio-2/var/ri-1
 6.l-L1
URL:https://lorenapaeztraining.com/events/cardio-2/var/ri-16.l-L1
END:VEVENT
END:VCALENDAR