BEGIN:VCALENDAR
VERSION:2.0
PRODID:-//eventon.com NONSGML v1.0//EN
CALSCALE:GREGORIAN
METHOD:PUBLISH
BEGIN:VEVENT
UID:69eab80b91229
DTSTAMP:20260424T002339Z
DTSTART:20210618T003000Z
DTEND:20210618T013000Z
LOCATION:
SUMMARY:Cardio
DESCRIPTION:Cardio\nhttps://lorenapaeztraining.com/events/cardio-2/var/ri-1
 7.l-L1
URL:https://lorenapaeztraining.com/events/cardio-2/var/ri-17.l-L1
END:VEVENT
END:VCALENDAR