BEGIN:VCALENDAR
VERSION:2.0
PRODID:-//eventon.com NONSGML v1.0//EN
CALSCALE:GREGORIAN
METHOD:PUBLISH
BEGIN:VEVENT
UID:69ead14a004bd
DTSTAMP:20260424T021122Z
DTSTART:20210625T003000Z
DTEND:20210625T013000Z
LOCATION:
SUMMARY:Cardio
DESCRIPTION:Cardio\nhttps://lorenapaeztraining.com/events/cardio-2/var/ri-1
 8.l-L1
URL:https://lorenapaeztraining.com/events/cardio-2/var/ri-18.l-L1
END:VEVENT
END:VCALENDAR