BEGIN:VCALENDAR
VERSION:2.0
PRODID:-//eventon.com NONSGML v1.0//EN
CALSCALE:GREGORIAN
METHOD:PUBLISH
BEGIN:VEVENT
UID:69eae9071674f
DTSTAMP:20260424T035239Z
DTSTART:20210702T003000Z
DTEND:20210702T013000Z
LOCATION:
SUMMARY:Cardio
DESCRIPTION:Cardio\nhttps://lorenapaeztraining.com/events/cardio-2/var/ri-1
 9.l-L1
URL:https://lorenapaeztraining.com/events/cardio-2/var/ri-19.l-L1
END:VEVENT
END:VCALENDAR