BEGIN:VCALENDAR
VERSION:2.0
PRODID:-//eventon.com NONSGML v1.0//EN
CALSCALE:GREGORIAN
METHOD:PUBLISH
BEGIN:VEVENT
UID:69eafeb554ec4
DTSTAMP:20260424T052509Z
DTSTART:20210709T003000Z
DTEND:20210709T013000Z
LOCATION:
SUMMARY:Cardio
DESCRIPTION:Cardio\nhttps://lorenapaeztraining.com/events/cardio-2/var/ri-2
 0.l-L1
URL:https://lorenapaeztraining.com/events/cardio-2/var/ri-20.l-L1
END:VEVENT
END:VCALENDAR