BEGIN:VCALENDAR
VERSION:2.0
PRODID:-//eventon.com NONSGML v1.0//EN
CALSCALE:GREGORIAN
METHOD:PUBLISH
BEGIN:VEVENT
UID:69e9dfc979aba
DTSTAMP:20260423T090057Z
DTSTART:20210402T003000Z
DTEND:20210402T013000Z
LOCATION:
SUMMARY:Cardio
DESCRIPTION:Cardio\nhttps://lorenapaeztraining.com/events/cardio-2/var/ri-6
 .l-L1
URL:https://lorenapaeztraining.com/events/cardio-2/var/ri-6.l-L1
END:VEVENT
END:VCALENDAR