BEGIN:VCALENDAR
VERSION:2.0
PRODID:-//eventon.com NONSGML v1.0//EN
CALSCALE:GREGORIAN
METHOD:PUBLISH
BEGIN:VEVENT
UID:69e74b7392ba8
DTSTAMP:20260421T100331Z
DTSTART:20210416T003000Z
DTEND:20210416T013000Z
LOCATION:
SUMMARY:Cardio
DESCRIPTION:Cardio\nhttps://lorenapaeztraining.com/events/cardio-2/var/ri-8
 .l-L1
URL:https://lorenapaeztraining.com/events/cardio-2/var/ri-8.l-L1
END:VEVENT
END:VCALENDAR