BEGIN:VCALENDAR
VERSION:2.0
PRODID:-//eventon.com NONSGML v1.0//EN
CALSCALE:GREGORIAN
METHOD:PUBLISH
BEGIN:VEVENT
UID:69e9f5a21eb6f
DTSTAMP:20260423T103410Z
DTSTART:20210423T003000Z
DTEND:20210423T013000Z
LOCATION:
SUMMARY:Cardio
DESCRIPTION:Cardio\nhttps://lorenapaeztraining.com/events/cardio-2/var/ri-9
 .l-L1
URL:https://lorenapaeztraining.com/events/cardio-2/var/ri-9.l-L1
END:VEVENT
END:VCALENDAR