BEGIN:VCALENDAR
VERSION:2.0
PRODID:-//eventon.com NONSGML v1.0//EN
CALSCALE:GREGORIAN
METHOD:PUBLISH
BEGIN:VEVENT
UID:69e7ef0e30935
DTSTAMP:20260421T214134Z
DTSTART:20210429T000000Z
DTEND:20210429T013000Z
LOCATION:
SUMMARY:Entrenamiento Atlético
DESCRIPTION:Entrenamiento Atlético\nhttps://lorenapaeztraining.com/events/
 entrenamiento-atletico/var/ri-10.l-L1
URL:https://lorenapaeztraining.com/events/entrenamiento-atletico/var/ri-10.l-L1
END:VEVENT
END:VCALENDAR