BEGIN:VCALENDAR
VERSION:2.0
PRODID:-//eventon.com NONSGML v1.0//EN
CALSCALE:GREGORIAN
METHOD:PUBLISH
BEGIN:VEVENT
UID:69e80765588bd
DTSTAMP:20260421T232525Z
DTSTART:20210506T000000Z
DTEND:20210506T013000Z
LOCATION:
SUMMARY:Entrenamiento Atlético
DESCRIPTION:Entrenamiento Atlético\nhttps://lorenapaeztraining.com/events/
 entrenamiento-atletico/var/ri-11.l-L1
URL:https://lorenapaeztraining.com/events/entrenamiento-atletico/var/ri-11.l-L1
END:VEVENT
END:VCALENDAR