BEGIN:VCALENDAR
VERSION:2.0
PRODID:-//eventon.com NONSGML v1.0//EN
CALSCALE:GREGORIAN
METHOD:PUBLISH
BEGIN:VEVENT
UID:69e82246bb216
DTSTAMP:20260422T012006Z
DTSTART:20210513T000000Z
DTEND:20210513T013000Z
LOCATION:
SUMMARY:Entrenamiento Atlético
DESCRIPTION:Entrenamiento Atlético\nhttps://lorenapaeztraining.com/events/
 entrenamiento-atletico/var/ri-12.l-L1
URL:https://lorenapaeztraining.com/events/entrenamiento-atletico/var/ri-12.l-L1
END:VEVENT
END:VCALENDAR