BEGIN:VCALENDAR
VERSION:2.0
PRODID:-//eventon.com NONSGML v1.0//EN
CALSCALE:GREGORIAN
METHOD:PUBLISH
BEGIN:VEVENT
UID:69e83f8e628c5
DTSTAMP:20260422T032502Z
DTSTART:20210520T000000Z
DTEND:20210520T013000Z
LOCATION:
SUMMARY:Entrenamiento Atlético
DESCRIPTION:Entrenamiento Atlético\nhttps://lorenapaeztraining.com/events/
 entrenamiento-atletico/var/ri-13.l-L1
URL:https://lorenapaeztraining.com/events/entrenamiento-atletico/var/ri-13.l-L1
END:VEVENT
END:VCALENDAR