BEGIN:VCALENDAR
VERSION:2.0
PRODID:-//eventon.com NONSGML v1.0//EN
CALSCALE:GREGORIAN
METHOD:PUBLISH
BEGIN:VEVENT
UID:69e85c168aea5
DTSTAMP:20260422T052646Z
DTSTART:20210527T000000Z
DTEND:20210527T013000Z
LOCATION:
SUMMARY:Entrenamiento Atlético
DESCRIPTION:Entrenamiento Atlético\nhttps://lorenapaeztraining.com/events/
 entrenamiento-atletico/var/ri-14.l-L1
URL:https://lorenapaeztraining.com/events/entrenamiento-atletico/var/ri-14.l-L1
END:VEVENT
END:VCALENDAR