BEGIN:VCALENDAR
VERSION:2.0
PRODID:-//eventon.com NONSGML v1.0//EN
CALSCALE:GREGORIAN
METHOD:PUBLISH
BEGIN:VEVENT
UID:69e87997e972f
DTSTAMP:20260422T073239Z
DTSTART:20210603T000000Z
DTEND:20210603T013000Z
LOCATION:
SUMMARY:Entrenamiento Atlético
DESCRIPTION:Entrenamiento Atlético\nhttps://lorenapaeztraining.com/events/
 entrenamiento-atletico/var/ri-15.l-L1
URL:https://lorenapaeztraining.com/events/entrenamiento-atletico/var/ri-15.l-L1
END:VEVENT
END:VCALENDAR