BEGIN:VCALENDAR
VERSION:2.0
PRODID:-//eventon.com NONSGML v1.0//EN
CALSCALE:GREGORIAN
METHOD:PUBLISH
BEGIN:VEVENT
UID:69e9e0dbe168f
DTSTAMP:20260423T090531Z
DTSTART:20210304T000000Z
DTEND:20210304T013000Z
LOCATION:
SUMMARY:Entrenamiento Atlético
DESCRIPTION:Entrenamiento Atlético\nhttps://lorenapaeztraining.com/events/
 entrenamiento-atletico/var/ri-2.l-L1
URL:https://lorenapaeztraining.com/events/entrenamiento-atletico/var/ri-2.l-L1
END:VEVENT
END:VCALENDAR