BEGIN:VCALENDAR
VERSION:2.0
PRODID:-//eventon.com NONSGML v1.0//EN
CALSCALE:GREGORIAN
METHOD:PUBLISH
BEGIN:VEVENT
UID:69e77f2745f54
DTSTAMP:20260421T134407Z
DTSTART:20210325T000000Z
DTEND:20210325T013000Z
LOCATION:
SUMMARY:Entrenamiento Atlético
DESCRIPTION:Entrenamiento Atlético\nhttps://lorenapaeztraining.com/events/
 entrenamiento-atletico/var/ri-5.l-L1
URL:https://lorenapaeztraining.com/events/entrenamiento-atletico/var/ri-5.l-L1
END:VEVENT
END:VCALENDAR