BEGIN:VCALENDAR
VERSION:2.0
PRODID:-//eventon.com NONSGML v1.0//EN
CALSCALE:GREGORIAN
METHOD:PUBLISH
BEGIN:VEVENT
UID:69e7f003aedf0
DTSTAMP:20260421T214539Z
DTSTART:20210514T120000Z
DTEND:20210514T133000Z
LOCATION:
SUMMARY:Circuitos Pilates
DESCRIPTION:Circuitos Pilates\nhttps://lorenapaeztraining.com/events/circui
 tos-pilates/var/ri-12.l-L1
URL:https://lorenapaeztraining.com/events/circuitos-pilates/var/ri-12.l-L1
END:VEVENT
END:VCALENDAR