BEGIN:VCALENDAR
VERSION:2.0
PRODID:-//eventon.com NONSGML v1.0//EN
CALSCALE:GREGORIAN
METHOD:PUBLISH
BEGIN:VEVENT
UID:69e83ed27a7da
DTSTAMP:20260422T032154Z
DTSTART:20210604T120000Z
DTEND:20210604T133000Z
LOCATION:
SUMMARY:Circuitos Pilates
DESCRIPTION:Circuitos Pilates\nhttps://lorenapaeztraining.com/events/circui
 tos-pilates/var/ri-15.l-L1
URL:https://lorenapaeztraining.com/events/circuitos-pilates/var/ri-15.l-L1
END:VEVENT
END:VCALENDAR