BEGIN:VCALENDAR
VERSION:2.0
PRODID:-//eventon.com NONSGML v1.0//EN
CALSCALE:GREGORIAN
METHOD:PUBLISH
BEGIN:VEVENT
UID:69eaa83e43afe
DTSTAMP:20260423T231614Z
DTSTART:20210426T133000Z
DTEND:20210426T150000Z
LOCATION:
SUMMARY:Power Class
DESCRIPTION:Power Class\nhttps://lorenapaeztraining.com/events/power-class/
 var/ri-10.l-L1
URL:https://lorenapaeztraining.com/events/power-class/var/ri-10.l-L1
END:VEVENT
END:VCALENDAR