BEGIN:VCALENDAR
VERSION:2.0
PRODID:-//eventon.com NONSGML v1.0//EN
CALSCALE:GREGORIAN
METHOD:PUBLISH
BEGIN:VEVENT
UID:69eaeb79b011e
DTSTAMP:20260424T040305Z
DTSTART:20210517T133000Z
DTEND:20210517T150000Z
LOCATION:
SUMMARY:Power Class
DESCRIPTION:Power Class\nhttps://lorenapaeztraining.com/events/power-class/
 var/ri-13.l-L1
URL:https://lorenapaeztraining.com/events/power-class/var/ri-13.l-L1
END:VEVENT
END:VCALENDAR