BEGIN:VCALENDAR
VERSION:2.0
PRODID:-//eventon.com NONSGML v1.0//EN
CALSCALE:GREGORIAN
METHOD:PUBLISH
BEGIN:VEVENT
UID:69eb02d3bd605
DTSTAMP:20260424T054243Z
DTSTART:20210524T133000Z
DTEND:20210524T150000Z
LOCATION:
SUMMARY:Power Class
DESCRIPTION:Power Class\nhttps://lorenapaeztraining.com/events/power-class/
 var/ri-14.l-L1
URL:https://lorenapaeztraining.com/events/power-class/var/ri-14.l-L1
END:VEVENT
END:VCALENDAR