BEGIN:VCALENDAR
VERSION:2.0
PRODID:-//eventon.com NONSGML v1.0//EN
CALSCALE:GREGORIAN
METHOD:PUBLISH
BEGIN:VEVENT
UID:69e738e06d784
DTSTAMP:20260421T084416Z
DTSTART:20210301T133000Z
DTEND:20210301T150000Z
LOCATION:
SUMMARY:Power Class
DESCRIPTION:Power Class\nhttps://lorenapaeztraining.com/events/power-class/
 var/ri-2.l-L1
URL:https://lorenapaeztraining.com/events/power-class/var/ri-2.l-L1
END:VEVENT
END:VCALENDAR