BEGIN:VCALENDAR
VERSION:2.0
PRODID:-//eventon.com NONSGML v1.0//EN
CALSCALE:GREGORIAN
METHOD:PUBLISH
BEGIN:VEVENT
UID:69e9fbe8a8747
DTSTAMP:20260423T110056Z
DTSTART:20210308T133000Z
DTEND:20210308T150000Z
LOCATION:
SUMMARY:Power Class
DESCRIPTION:Power Class\nhttps://lorenapaeztraining.com/events/power-class/
 var/ri-3.l-L1
URL:https://lorenapaeztraining.com/events/power-class/var/ri-3.l-L1
END:VEVENT
END:VCALENDAR