BEGIN:VCALENDAR
VERSION:2.0
PRODID:-//eventon.com NONSGML v1.0//EN
CALSCALE:GREGORIAN
METHOD:PUBLISH
BEGIN:VEVENT
UID:69e9e17133f3c
DTSTAMP:20260423T090801Z
DTSTART:20210321T121500Z
DTEND:20210321T134500Z
LOCATION:
SUMMARY:Yoga
DESCRIPTION:Yoga\nhttps://lorenapaeztraining.com/events/yoga/var/ri-10.l-L1
URL:https://lorenapaeztraining.com/events/yoga/var/ri-10.l-L1
END:VEVENT
END:VCALENDAR