BEGIN:VCALENDAR
VERSION:2.0
PRODID:-//eventon.com NONSGML v1.0//EN
CALSCALE:GREGORIAN
METHOD:PUBLISH
BEGIN:VEVENT
UID:69e9fbc3200af
DTSTAMP:20260423T110019Z
DTSTART:20210323T121500Z
DTEND:20210323T134500Z
LOCATION:
SUMMARY:Yoga
DESCRIPTION:Yoga\nhttps://lorenapaeztraining.com/events/yoga/var/ri-11.l-L1
URL:https://lorenapaeztraining.com/events/yoga/var/ri-11.l-L1
END:VEVENT
END:VCALENDAR