BEGIN:VCALENDAR
VERSION:2.0
PRODID:-//eventon.com NONSGML v1.0//EN
CALSCALE:GREGORIAN
METHOD:PUBLISH
BEGIN:VEVENT
UID:69ea2a457efa4
DTSTAMP:20260423T141845Z
DTSTART:20210330T121500Z
DTEND:20210330T134500Z
LOCATION:
SUMMARY:Yoga
DESCRIPTION:Yoga\nhttps://lorenapaeztraining.com/events/yoga/var/ri-13.l-L1
URL:https://lorenapaeztraining.com/events/yoga/var/ri-13.l-L1
END:VEVENT
END:VCALENDAR