BEGIN:VCALENDAR
VERSION:2.0
PRODID:-//eventon.com NONSGML v1.0//EN
CALSCALE:GREGORIAN
METHOD:PUBLISH
BEGIN:VEVENT
UID:69ea407f2bbfe
DTSTAMP:20260423T155335Z
DTSTART:20210404T121500Z
DTEND:20210404T134500Z
LOCATION:
SUMMARY:Yoga
DESCRIPTION:Yoga\nhttps://lorenapaeztraining.com/events/yoga/var/ri-14.l-L1
URL:https://lorenapaeztraining.com/events/yoga/var/ri-14.l-L1
END:VEVENT
END:VCALENDAR