BEGIN:VCALENDAR
VERSION:2.0
PRODID:-//eventon.com NONSGML v1.0//EN
CALSCALE:GREGORIAN
METHOD:PUBLISH
BEGIN:VEVENT
UID:69ea5c69df878
DTSTAMP:20260423T175241Z
DTSTART:20210406T121500Z
DTEND:20210406T134500Z
LOCATION:
SUMMARY:Yoga
DESCRIPTION:Yoga\nhttps://lorenapaeztraining.com/events/yoga/var/ri-15.l-L1
URL:https://lorenapaeztraining.com/events/yoga/var/ri-15.l-L1
END:VEVENT
END:VCALENDAR