BEGIN:VCALENDAR
VERSION:2.0
PRODID:-//eventon.com NONSGML v1.0//EN
CALSCALE:GREGORIAN
METHOD:PUBLISH
BEGIN:VEVENT
UID:69ea8e38b0323
DTSTAMP:20260423T212512Z
DTSTART:20210413T121500Z
DTEND:20210413T134500Z
LOCATION:
SUMMARY:Yoga
DESCRIPTION:Yoga\nhttps://lorenapaeztraining.com/events/yoga/var/ri-17.l-L1
URL:https://lorenapaeztraining.com/events/yoga/var/ri-17.l-L1
END:VEVENT
END:VCALENDAR