BEGIN:VCALENDAR
VERSION:2.0
PRODID:-//eventon.com NONSGML v1.0//EN
CALSCALE:GREGORIAN
METHOD:PUBLISH
BEGIN:VEVENT
UID:69eaa4836a90a
DTSTAMP:20260423T230019Z
DTSTART:20210418T121500Z
DTEND:20210418T134500Z
LOCATION:
SUMMARY:Yoga
DESCRIPTION:Yoga\nhttps://lorenapaeztraining.com/events/yoga/var/ri-18.l-L1
URL:https://lorenapaeztraining.com/events/yoga/var/ri-18.l-L1
END:VEVENT
END:VCALENDAR