BEGIN:VCALENDAR
VERSION:2.0
PRODID:-//eventon.com NONSGML v1.0//EN
CALSCALE:GREGORIAN
METHOD:PUBLISH
BEGIN:VEVENT
UID:69eabd85c512e
DTSTAMP:20260424T004701Z
DTSTART:20210420T121500Z
DTEND:20210420T134500Z
LOCATION:
SUMMARY:Yoga
DESCRIPTION:Yoga\nhttps://lorenapaeztraining.com/events/yoga/var/ri-19.l-L1
URL:https://lorenapaeztraining.com/events/yoga/var/ri-19.l-L1
END:VEVENT
END:VCALENDAR