BEGIN:VCALENDAR
VERSION:2.0
PRODID:-//eventon.com NONSGML v1.0//EN
CALSCALE:GREGORIAN
METHOD:PUBLISH
BEGIN:VEVENT
UID:69ead8b53b74e
DTSTAMP:20260424T024301Z
DTSTART:20210425T121500Z
DTEND:20210425T134500Z
LOCATION:
SUMMARY:Yoga
DESCRIPTION:Yoga\nhttps://lorenapaeztraining.com/events/yoga/var/ri-20.l-L1
URL:https://lorenapaeztraining.com/events/yoga/var/ri-20.l-L1
END:VEVENT
END:VCALENDAR