BEGIN:VCALENDAR
VERSION:2.0
PRODID:-//eventon.com NONSGML v1.0//EN
CALSCALE:GREGORIAN
METHOD:PUBLISH
BEGIN:VEVENT
UID:69eaf4202fa29
DTSTAMP:20260424T044000Z
DTSTART:20210427T121500Z
DTEND:20210427T134500Z
LOCATION:
SUMMARY:Yoga
DESCRIPTION:Yoga\nhttps://lorenapaeztraining.com/events/yoga/var/ri-21.l-L1
URL:https://lorenapaeztraining.com/events/yoga/var/ri-21.l-L1
END:VEVENT
END:VCALENDAR