BEGIN:VCALENDAR
VERSION:2.0
PRODID:-//eventon.com NONSGML v1.0//EN
CALSCALE:GREGORIAN
METHOD:PUBLISH
BEGIN:VEVENT
UID:69e62774c5a85
DTSTAMP:20260420T131740Z
DTSTART:20210321T140000Z
DTEND:20210321T153000Z
LOCATION:
SUMMARY:Cardio
DESCRIPTION:Cardio\nhttps://lorenapaeztraining.com/events/cardio-3/var/ri-1
 0.l-L1
URL:https://lorenapaeztraining.com/events/cardio-3/var/ri-10.l-L1
END:VEVENT
END:VCALENDAR