BEGIN:VCALENDAR
VERSION:2.0
PRODID:-//eventon.com NONSGML v1.0//EN
CALSCALE:GREGORIAN
METHOD:PUBLISH
BEGIN:VEVENT
UID:69e65e4fed41c
DTSTAMP:20260420T171143Z
DTSTART:20210328T140000Z
DTEND:20210328T153000Z
LOCATION:
SUMMARY:Cardio
DESCRIPTION:Cardio\nhttps://lorenapaeztraining.com/events/cardio-3/var/ri-1
 2.l-L1
URL:https://lorenapaeztraining.com/events/cardio-3/var/ri-12.l-L1
END:VEVENT
END:VCALENDAR