BEGIN:VCALENDAR
VERSION:2.0
PRODID:-//eventon.com NONSGML v1.0//EN
CALSCALE:GREGORIAN
METHOD:PUBLISH
BEGIN:VEVENT
UID:69e6779e1590d
DTSTAMP:20260420T185942Z
DTSTART:20210330T140000Z
DTEND:20210330T153000Z
LOCATION:
SUMMARY:Cardio
DESCRIPTION:Cardio\nhttps://lorenapaeztraining.com/events/cardio-3/var/ri-1
 3.l-L1
URL:https://lorenapaeztraining.com/events/cardio-3/var/ri-13.l-L1
END:VEVENT
END:VCALENDAR