BEGIN:VCALENDAR
VERSION:2.0
PRODID:-//eventon.com NONSGML v1.0//EN
CALSCALE:GREGORIAN
METHOD:PUBLISH
BEGIN:VEVENT
UID:69e6901152bb1
DTSTAMP:20260420T204401Z
DTSTART:20210404T140000Z
DTEND:20210404T153000Z
LOCATION:
SUMMARY:Cardio
DESCRIPTION:Cardio\nhttps://lorenapaeztraining.com/events/cardio-3/var/ri-1
 4.l-L1
URL:https://lorenapaeztraining.com/events/cardio-3/var/ri-14.l-L1
END:VEVENT
END:VCALENDAR