BEGIN:VCALENDAR
VERSION:2.0
PRODID:-//eventon.com NONSGML v1.0//EN
CALSCALE:GREGORIAN
METHOD:PUBLISH
BEGIN:VEVENT
UID:69e6ac587bee0
DTSTAMP:20260420T224440Z
DTSTART:20210406T140000Z
DTEND:20210406T153000Z
LOCATION:
SUMMARY:Cardio
DESCRIPTION:Cardio\nhttps://lorenapaeztraining.com/events/cardio-3/var/ri-1
 5.l-L1
URL:https://lorenapaeztraining.com/events/cardio-3/var/ri-15.l-L1
END:VEVENT
END:VCALENDAR