BEGIN:VCALENDAR
VERSION:2.0
PRODID:-//eventon.com NONSGML v1.0//EN
CALSCALE:GREGORIAN
METHOD:PUBLISH
BEGIN:VEVENT
UID:69e6f911ce069
DTSTAMP:20260421T041201Z
DTSTART:20210418T140000Z
DTEND:20210418T153000Z
LOCATION:
SUMMARY:Cardio
DESCRIPTION:Cardio\nhttps://lorenapaeztraining.com/events/cardio-3/var/ri-1
 8.l-L1
URL:https://lorenapaeztraining.com/events/cardio-3/var/ri-18.l-L1
END:VEVENT
END:VCALENDAR