BEGIN:VCALENDAR
VERSION:2.0
PRODID:-//eventon.com NONSGML v1.0//EN
CALSCALE:GREGORIAN
METHOD:PUBLISH
BEGIN:VEVENT
UID:69e711a02e183
DTSTAMP:20260421T055648Z
DTSTART:20210420T140000Z
DTEND:20210420T153000Z
LOCATION:
SUMMARY:Cardio
DESCRIPTION:Cardio\nhttps://lorenapaeztraining.com/events/cardio-3/var/ri-1
 9.l-L1
URL:https://lorenapaeztraining.com/events/cardio-3/var/ri-19.l-L1
END:VEVENT
END:VCALENDAR