BEGIN:VCALENDAR
VERSION:2.0
PRODID:-//eventon.com NONSGML v1.0//EN
CALSCALE:GREGORIAN
METHOD:PUBLISH
BEGIN:VEVENT
UID:69e72d2463168
DTSTAMP:20260421T075412Z
DTSTART:20210425T140000Z
DTEND:20210425T153000Z
LOCATION:
SUMMARY:Cardio
DESCRIPTION:Cardio\nhttps://lorenapaeztraining.com/events/cardio-3/var/ri-2
 0.l-L1
URL:https://lorenapaeztraining.com/events/cardio-3/var/ri-20.l-L1
END:VEVENT
END:VCALENDAR