BEGIN:VCALENDAR
VERSION:2.0
PRODID:-//eventon.com NONSGML v1.0//EN
CALSCALE:GREGORIAN
METHOD:PUBLISH
BEGIN:VEVENT
UID:69e9e07700bcc
DTSTAMP:20260423T090351Z
DTSTART:20210427T140000Z
DTEND:20210427T153000Z
LOCATION:
SUMMARY:Cardio
DESCRIPTION:Cardio\nhttps://lorenapaeztraining.com/events/cardio-3/var/ri-2
 1.l-L1
URL:https://lorenapaeztraining.com/events/cardio-3/var/ri-21.l-L1
END:VEVENT
END:VCALENDAR