BEGIN:VCALENDAR
VERSION:2.0
PRODID:-//eventon.com NONSGML v1.0//EN
CALSCALE:GREGORIAN
METHOD:PUBLISH
BEGIN:VEVENT
UID:69e9f65f82ab4
DTSTAMP:20260423T103719Z
DTSTART:20210502T140000Z
DTEND:20210502T153000Z
LOCATION:
SUMMARY:Cardio
DESCRIPTION:Cardio\nhttps://lorenapaeztraining.com/events/cardio-3/var/ri-2
 2.l-L1
URL:https://lorenapaeztraining.com/events/cardio-3/var/ri-22.l-L1
END:VEVENT
END:VCALENDAR