BEGIN:VCALENDAR
VERSION:2.0
PRODID:-//eventon.com NONSGML v1.0//EN
CALSCALE:GREGORIAN
METHOD:PUBLISH
BEGIN:VEVENT
UID:69ea0a261ac9b
DTSTAMP:20260423T120142Z
DTSTART:20210504T140000Z
DTEND:20210504T153000Z
LOCATION:
SUMMARY:Cardio
DESCRIPTION:Cardio\nhttps://lorenapaeztraining.com/events/cardio-3/var/ri-2
 3.l-L1
URL:https://lorenapaeztraining.com/events/cardio-3/var/ri-23.l-L1
END:VEVENT
END:VCALENDAR