BEGIN:VCALENDAR
VERSION:2.0
PRODID:-//eventon.com NONSGML v1.0//EN
CALSCALE:GREGORIAN
METHOD:PUBLISH
BEGIN:VEVENT
UID:69ea25c1257cd
DTSTAMP:20260423T135929Z
DTSTART:20210509T140000Z
DTEND:20210509T153000Z
LOCATION:
SUMMARY:Cardio
DESCRIPTION:Cardio\nhttps://lorenapaeztraining.com/events/cardio-3/var/ri-2
 4.l-L1
URL:https://lorenapaeztraining.com/events/cardio-3/var/ri-24.l-L1
END:VEVENT
END:VCALENDAR