BEGIN:VCALENDAR
VERSION:2.0
PRODID:-//eventon.com NONSGML v1.0//EN
CALSCALE:GREGORIAN
METHOD:PUBLISH
BEGIN:VEVENT
UID:69ea5a710afd7
DTSTAMP:20260423T174417Z
DTSTART:20210516T140000Z
DTEND:20210516T153000Z
LOCATION:
SUMMARY:Cardio
DESCRIPTION:Cardio\nhttps://lorenapaeztraining.com/events/cardio-3/var/ri-2
 6.l-L1
URL:https://lorenapaeztraining.com/events/cardio-3/var/ri-26.l-L1
END:VEVENT
END:VCALENDAR