BEGIN:VCALENDAR
VERSION:2.0
PRODID:-//eventon.com NONSGML v1.0//EN
CALSCALE:GREGORIAN
METHOD:PUBLISH
BEGIN:VEVENT
UID:69ea7374f1fdd
DTSTAMP:20260423T193100Z
DTSTART:20210518T140000Z
DTEND:20210518T153000Z
LOCATION:
SUMMARY:Cardio
DESCRIPTION:Cardio\nhttps://lorenapaeztraining.com/events/cardio-3/var/ri-2
 7.l-L1
URL:https://lorenapaeztraining.com/events/cardio-3/var/ri-27.l-L1
END:VEVENT
END:VCALENDAR