BEGIN:VCALENDAR
VERSION:2.0
PRODID:-//eventon.com NONSGML v1.0//EN
CALSCALE:GREGORIAN
METHOD:PUBLISH
BEGIN:VEVENT
UID:69ea8e5fba7f4
DTSTAMP:20260423T212551Z
DTSTART:20210523T140000Z
DTEND:20210523T153000Z
LOCATION:
SUMMARY:Cardio
DESCRIPTION:Cardio\nhttps://lorenapaeztraining.com/events/cardio-3/var/ri-2
 8.l-L1
URL:https://lorenapaeztraining.com/events/cardio-3/var/ri-28.l-L1
END:VEVENT
END:VCALENDAR