BEGIN:VCALENDAR
VERSION:2.0
PRODID:-//eventon.com NONSGML v1.0//EN
CALSCALE:GREGORIAN
METHOD:PUBLISH
BEGIN:VEVENT
UID:69eaa7783a09b
DTSTAMP:20260423T231256Z
DTSTART:20210525T140000Z
DTEND:20210525T153000Z
LOCATION:
SUMMARY:Cardio
DESCRIPTION:Cardio\nhttps://lorenapaeztraining.com/events/cardio-3/var/ri-2
 9.l-L1
URL:https://lorenapaeztraining.com/events/cardio-3/var/ri-29.l-L1
END:VEVENT
END:VCALENDAR